Workbook

Sheet Instructions & Guide
B2: ENERGY, SMART GRID & UTILITY SCADA OPERATIONS COMMAND
B3: Power Generation, Transmission Dispatch & Smart Grid Architecture Manual
B5: Sheet Name | C5: Smart Grid & Energy Domain Scope | D5: Primary Operating Unit
B6: Executive Smart Grid Dashboard | C6: Unified 8-KPI power generation, renewable share, SAIDI/SAIFI & SCADA command | D6: Chief Operating Officer / VP System Dispatch
B7: SCADA Substation Telemetry | C7: 150kV/500kV primary transmission substations, breaker state & bus voltages | D7: Pusat Pengatur Beban (P2B) Dispatchers
B8: Smart Meter AMI Infrastructure | C8: Advanced Metering Infrastructure (AMI), cellular mesh readings & tamper flags | D8: Distribusi & Niaga Smart Meter Lead
B9: Renewable Solar & Wind Farm | C9: Grid-tied solar PV parks, wind turbines, inverter efficiency & curtailment | D9: Renewable Energy Independent Power Producers
B10: Grid Outage SAIDI & SAIFI | C10: System interruption frequency/duration indices, feeder trip analysis & restoration | D10: Reliability Engineering & Grid Operations
B11: BESS Battery Energy Storage | C11: Utility-scale lithium-ion BESS, State of Charge (SoC), C-Rate & frequency support | D11: Energy Storage & Ancillary Services Lead
B12: Demand Response & Peak Shaving | C12: Industrial load shedding, automated dynamic tariff response & peak load relief | D12: Energy Trading & Demand Management Unit
B13: Transmission Line Thermal Loss | C13: High voltage line loading %, conductor thermal ratings & transmission losses | D13: Transmisi & Pemeliharaan Jalur Udara (SUTET)
B14: Transformer Health & DGA Oil | C14: Dissolved Gas Analysis (DGA), transformer oil insulation, hot-spot telemetry | D14: Substation Asset Integrity & Maintenance
B15: EV Fast Charging Station Grid | C15: Public EV fast chargers (SPKLU), grid impact buffer & dynamic load balancer | D15: EV Infrastructure & Smart Mobility Team
B16: Utility Cyber OT Sec IEC 62443 | C16: Industrial control systems (ICS/SCADA) air-gap defense, modbus anomaly & certs | D16: OT Cyber Security & Critical Infrastructure
... B18: Strategic Utility Scorecard | C18: Quarterly executive performance vs RUPTL 2026 & Net Zero Emission 2060 | D18: Board of Directors / Kementerian ESDM

Sheet Executive Smart Grid Dashboard
B2: SMART GRID COMMAND CENTER & NATIONAL POWER SYSTEM DISPATCH
B3: Unified Executive Mission Control • SCADA Telemetry, Smart Meter AMI, EBT Renewables, BESS & Carbon Abatement
B5: TOTAL GRID TRANSMISSION LOAD | D5: RENEWABLE POWER OUTPUT | F5: GRID SAIDI DURATION | H5: SMART METER READ RATE
B6: ='SCADA Substation Telemetry'!F12 | D6: ='Renewable Solar & Wind Farm'!E11 | F6: ='Grid Outage SAIDI & SAIFI'!H11 | H6: ='Smart Meter AMI Infrastructure'!E11
B7: Substation Load | D7: Clean EBT Dispatch | F7: Outage Minutes/Cust | H7: AMI Connectivity %
B9: BESS BATTERY STORAGE | D9: DEMAND RESPONSE RELIEF | F9: EV CHARGERS DISPENSED | H9: CARBON ABATED (CO2e)
B10: ='BESS Battery Energy Storage'!E10 | D10: ='Demand Response & Peak Shaving'!F10 | F10: ='EV Fast Charging Station Grid'!F10 | H10: ='Carbon Offset & REC Credits'!F10
B11: Utility Storage Reserve | D11: Industrial Load Cut | F11: Clean EV Transport | H11: Clean Avoided Emissions
B13: POWER GENERATION DISPATCH MIX (MW) | F13: SMART GRID OPERATIONAL WATCHLIST
B14: Energy Source | C14: Dispatch (MW) | D14: Mix Share % | F14: Subsystem Ketenagalistrikan | G14: Current Operating Metric | H14: Target Keandalan Grid | I14: Status Sistem
B15: Gas Turbine Combined (PLTGU) | C15: 2850 | D15: =C15/C20 | F15: Telemetri SCADA GITET 500kV | G15: ='SCADA Substation Telemetry'!F12 & ' MW' | H15: Cos Phi > 0.95 | I15: ='SCADA Substation Telemetry'!J5
B16: Supercritical Coal (PLTU) | C16: 3450 | D16: =C16/C20 | F16: Smart Meter AMI Komunikasi | G16: ='Smart Meter AMI Infrastructure'!E11 | H16: Read Rate > 99.50% | I16: ='Smart Meter AMI Infrastructure'!J5
B17: Hydro Power (PLTA) | C17: 890 | D17: =C17/C20 | F17: Pembangkit EBT Surya & Angin | G17: ='Renewable Solar & Wind Farm'!E11 & ' MW' | H17: Zero Curtailment | I17: ='Renewable Solar & Wind Farm'!J5
B18: Geothermal Clean (PLTP) | C18: 780 | D18: =C18/C20 | F18: Indeks Keandalan SAIDI/SAIFI | G18: ='Grid Outage SAIDI & SAIFI'!H11 & ' min' | H18: SAIDI < 45 Menit | I18: ='Grid Outage SAIDI & SAIFI'!J5
B19: Solar PV & Wind (EBT) | C19: 345.2 | D19: =C19/C20 | F19: Sistem Penyimpanan BESS | G19: ='BESS Battery Energy Storage'!G10 & ' SoC' | H19: State of Health > 95% | I19: ='BESS Battery Energy Storage'!J5
B20: TOTAL GENERATION | C20: =SUM(C15:C19) | D20: =SUM(D15:D19) | F20: Demand Response Beban Puncak | G20: ='Demand Response & Peak Shaving'!F10 & ' MW' | H20: Relief > 100 MW | I20: ='Demand Response & Peak Shaving'!J5
F21: Termal Konduktor SUTET 500kV | G21: ='Transmission Line Thermal Loss'!F11 | H21: Thermal Loading < 80% | I21: ='Transmission Line Thermal Loss'!J5
F22: Kesehatan Minyak Trafo DGA | G22: ='Transformer Health & DGA Oil'!C5 & ' H2' | H22: Zone 1 Normal | I22: ='Transformer Health & DGA Oil'!J5
F23: Infrastruktur SPKLU Kendaraan | G23: ='EV Fast Charging Station Grid'!G10 & ' kW' | H23: Zero Grid Overload | I23: ='EV Fast Charging Station Grid'!J5
F24: Keamanan Siber OT IEC 62443 | G24: =COUNTA('Utility Cyber OT Sec IEC 62443'!B5:B8) & ' Nodes' | H24: 100% Air-Gap Protected | I24: ='Utility Cyber OT Sec IEC 62443'!J5
B48: Monthly Renewable Generation Mix & Grid Reliability SAIDI (%) | G48: Smart Grid SCADA & Utility Automation Index
B49: Month | C49: Target Renewable % | D49: Actual Clean Power Mix % | E49: Substation SCADA Uptime % | G49: Operational Capability Pillar | H49: Benchmark | I49: Current Attainment
B50: May | C50: 32 | D50: 33.4 | E50: 99.85 | G50: IEC 61850 Substation Protocol | H50: 4.2 | I50: 4.8
B51: Jun | C51: 34 | D51: 35.1 | E51: 99.88 | G51: DERMS Solar Inverter Control | H51: 4 | I51: 4.5
B52: Jul | C52: 36 | D52: 37.8 | E52: 99.92 | G52: Battery Storage BESS Dispatch | H52: 4 | I52: 4.6
B53: Aug | C53: 36 | D53: 37.2 | E53: 99.9 | G53: Smart Meter AMI Telemetry | H53: 4.2 | I53: 4.7
B54: Sep | C54: 38 | D54: 39.5 | E54: 99.95 | G54: Outage Management OMS Sync | H54: 4 | I54: 4.5
B55: Oct | C55: 40 | D55: 41.8 | E55: 99.98 | G55: Cyber-Physical Grid Defense | H55: 4.5 | I55: 4.9
B72: Substation Load Peak (MW) vs Grid Voltage Stability Index (%) | G72: Smart Grid Power Dispatch Generation Mix (%)
B73: Day | C73: Peak Load (MW) | D73: Voltage Stability % | E73: SLA Floor % | G73: Hour Window | H73: Solar Photovoltaic | I73: Wind Turbine Farms | J73: BESS Battery Discharge | K73: Natural Gas Peaker
B74: Mon | C74: 1450 | D74: 99.85 | E74: 99.5 | G74: 00:00 - 06:00 | H74: 0 | I74: 42 | J74: 18 | K74: 40
B75: Tue | C75: 1520 | D75: 99.82 | E75: 99.5 | G75: 06:00 - 12:00 | H75: 45 | I75: 28 | J75: 12 | K75: 15
B76: Wed | C76: 1480 | D76: 99.88 | E76: 99.5 | G76: 12:00 - 16:00 | H76: 55 | I76: 25 | J76: 8 | K76: 12
B77: Thu | C77: 1560 | D77: 99.8 | E77: 99.5 | G77: 16:00 - 20:00 | H77: 18 | I77: 32 | J77: 28 | K77: 22
B78: Fri | C78: 1620 | D78: 99.78 | E78: 99.5 | G78: 20:00 - 24:00 | H78: 0 | I78: 38 | J78: 32 | K78: 30
B79: Sat | C79: 1380 | D79: 99.92 | E79: 99.5

Sheet SCADA Substation Telemetry
B2: TRANSMISSION SUBSTATION SCADA TELEMETRY (150kV / 500kV)
B4: Substation Code | C4: Substation Name | D4: Voltage Class | E4: Transformer Units | F4: Active Load (MW) | G4: Reactive Load (MVAr) | H4: Busbar Voltage (kV) | I4: Power Factor (cos phi) | J4: Telemetry Status
B5: GITET-CKR | C5: GITET Cikarang Utama 500kV | D5: 500 kV | E5: 4 | F5: 1850.5 | G5: 420 | H5: 502.5 | I5: 0.975 | J5: NORMAL_OPTIMAL
B6: GITET-BDG | C6: GITET Bandung Selatan 500kV | D6: 500 kV | E6: 3 | F6: 1420 | G6: 310.5 | H6: 498.2 | I6: 0.977 | J6: NORMAL_OPTIMAL
B7: GITET-SBY | C7: GITET Krian Surabaya 500kV | D7: 500 kV | E7: 4 | F7: 1920 | G7: 440 | H7: 501.8 | I7: 0.974 | J7: NORMAL_OPTIMAL
B8: GI-JKT-01 | C8: GI Gandul Jakarta 150kV | D8: 150 kV | E8: 3 | F8: 480 | G8: 95 | H8: 151.2 | I8: 0.981 | J8: NORMAL_OPTIMAL
B9: GI-JKT-02 | C9: GI Senayan City Substation | D9: 150 kV | E9: 2 | F9: 290 | G9: 58 | H9: 150.8 | I9: 0.98 | J9: NORMAL_OPTIMAL
B10: GI-SMG-01 | C10: GI Tambak Lorok Semarang | D10: 150 kV | E10: 3 | F10: 420 | G10: 88 | H10: 149.5 | I10: 0.979 | J10: NORMAL_OPTIMAL
B11: GI-DPS-01 | C11: GI Pesanggaran Bali 150kV | D11: 150 kV | E11: 3 | F11: 380 | G11: 75 | H11: 150.2 | I11: 0.981 | J11: NORMAL_OPTIMAL
B12: TOTAL GRID TRANSMISSION LOAD | F12: =SUM(F5:F11) | G12: =SUM(G5:G11) | H12: =AVERAGE(H5:H11) | I12: =AVERAGE(I5:I11)

Sheet Smart Meter AMI Infrastructure
B2: ADVANCED METERING INFRASTRUCTURE (AMI) & CELLULAR IOT READINGS
B4: Grid Distribution Zone | C4: AMI Meter Fleet Size | D4: Cellular Mesh Gateways | E4: Daily Successful Reads % | F4: Tamper / Bypass Alarms | G4: Peak KWh Recorded | H4: Billed KWh Volume | I4: Discrepancy Delta % | J4: AMI System Health
B5: Jakarta Raya & Banten | C5: 1850000 | D5: 1240 | E5: 0.9985 | F5: 24 | G5: 28500000 | H5: 28485000 | I5: 0.0005 | J5: OPTIMAL_ACTIVE
B6: Jawa Barat Regional | C6: 2100000 | D6: 1450 | E6: 0.9972 | F6: 38 | G6: 31200000 | H6: 31180000 | I6: 0.0006 | J6: OPTIMAL_ACTIVE
B7: Jawa Tengah & DIY | C7: 1650000 | D7: 1120 | E7: 0.998 | F7: 18 | G7: 22400000 | H7: 22390000 | I7: 0.0004 | J7: OPTIMAL_ACTIVE
B8: Jawa Timur & Madura | C8: 1950000 | D8: 1380 | E8: 0.9978 | F8: 29 | G8: 29800000 | H8: 29775000 | I8: 0.0008 | J8: OPTIMAL_ACTIVE
B9: Bali & Nusa Tenggara | C9: 620000 | D9: 480 | E9: 0.9991 | F9: 8 | G9: 9400000 | H9: 9395000 | I9: 0.0005 | J9: OPTIMAL_ACTIVE
B10: TOTAL AMI METER NETWORK | C10: =SUM(C5:C9) | D10: =SUM(D5:D9) | E10: =AVERAGE(E5:E9) | F10: =SUM(F5:F9) | G10: =SUM(G5:G9) | H10: =SUM(H5:H9) | I10: =AVERAGE(I5:I9)

Sheet Renewable Solar & Wind Farm
B2: RENEWABLE ENERGY GENERATION: FLOATING SOLAR PV & WIND FARMS
B4: Generation Plant Name | C4: Technology Type | D4: Installed Capacity (MWp) | E4: Current Output (MW) | F4: Capacity Factor % | G4: Inverter Efficiency % | H4: Grid Curtailment % | I4: Daily MWh Delivered | J4: Operating Status
B5: PLTS Terapung Cirata | C5: Floating Solar PV | D5: 192 | E5: 168.5 | F5: 0.877 | G5: 0.985 | H5: 0 | I5: 1180 | J5: ACTIVE_DISPATCH
B6: PLTB Sidrap Sulawesi | C6: Onshore Wind Turbines | D6: 75 | E6: 62 | F6: 0.826 | G6: 0.978 | H6: 0 | I6: 520 | J6: ACTIVE_DISPATCH
B7: PLTB Jeneponto Green | C7: Onshore Wind Turbines | D7: 72 | E7: 58.5 | F7: 0.812 | G7: 0.976 | H7: 0 | I7: 485 | J7: ACTIVE_DISPATCH
B8: PLTS Likupang Minahasa | C8: Ground-Mounted Solar PV | D8: 21 | E8: 18.2 | F8: 0.866 | G8: 0.982 | H8: 0 | I8: 135 | J8: ACTIVE_DISPATCH
B9: PLTS Atap Komersial JKT | C9: Distributed Rooftop Solar | D9: 45 | E9: 38 | F9: 0.844 | G9: 0.98 | H9: 0 | I9: 270 | J9: ACTIVE_DISPATCH
B10: TOTAL RENEWABLE DISPATCH | D10: =SUM(D5:D9) | E10: =SUM(E5:E9) | F10: =AVERAGE(F5:F9) | G10: =AVERAGE(G5:G9) | I10: =SUM(I5:I9)

Sheet Grid Outage SAIDI & SAIFI
B2: GRID RELIABILITY METRICS: SAIDI (DURATION) & SAIFI (FREQUENCY)
B4: Regional Distribution Unit | C4: Connected Customers | D4: Total Interruption Events | E4: Customers Impacted | F4: Cumulative Outage (Hours) | G4: SAIFI (Times/Cust) | H4: SAIDI (Minutes/Cust) | I4: Target SLA (min) | J4: Reliability Status
B5: UID Jakarta Raya Disjaya | C5: 5200000 | D5: 142 | E5: 68000 | F5: 24.5 | G5: 0.013 | H5: 18.5 | I5: 30 | J5: EXCEEDS_EXCELLENT
B6: UID Jawa Barat | C6: 8900000 | D6: 380 | E6: 245000 | F6: 68 | G6: 0.028 | H6: 42 | I6: 60 | J6: EXCEEDS_EXCELLENT
B7: UID Jawa Tengah & DIY | C7: 7400000 | D7: 290 | E7: 185000 | F7: 48 | G7: 0.025 | H7: 36.5 | I7: 55 | J7: EXCEEDS_EXCELLENT
B8: UID Jawa Timur | C8: 8100000 | D8: 310 | E8: 192000 | F8: 52 | G8: 0.024 | H8: 38 | I8: 55 | J8: EXCEEDS_EXCELLENT
B9: UID Bali & Wisata | C9: 1850000 | D9: 45 | E9: 18200 | F9: 8.5 | G9: 0.01 | H9: 12 | I9: 25 | J9: EXCEEDS_EXCELLENT
B10: TOTAL GRID RELIABILITY (NATIONAL) | C10: =SUM(C5:C9) | D10: =SUM(D5:D9) | E10: =SUM(E5:E9) | G10: =AVERAGE(G5:G9) | H10: =AVERAGE(H5:H9)

Sheet BESS Battery Energy Storage
B2: UTILITY-SCALE BATTERY ENERGY STORAGE SYSTEMS (BESS) TELEMETRY
B4: BESS Facility Code | C4: Location Substation | D4: Battery Chemistry | E4: Storage Capacity (MWh) | F4: Continuous Power (MW) | G4: State of Charge (SoC) % | H4: State of Health (SoH) % | I4: Frequency Support Mode | J4: Battery Status
B5: BESS-CR-01 | C5: Cirata Solar Grid Tie | D5: Lithium Iron Phosphate (LFP) | E5: 100 | F5: 50 | G5: 0.885 | H5: 0.992 | I5: FAST_FREQUENCY_RESPONSE | J5: OPTIMAL_ACTIVE
B6: BESS-SD-02 | C6: Sidrap Wind Buffer | D6: Lithium Iron Phosphate (LFP) | E6: 60 | F6: 30 | G6: 0.74 | H6: 0.985 | I6: RAMP_RATE_CONTROL | J6: OPTIMAL_ACTIVE
B7: BESS-GD-03 | C7: Gandul Peaker Storage | D7: LFP Utility Containers | E7: 150 | F7: 75 | G7: 0.92 | H7: 0.995 | I7: PEAK_SHAVING_DISPATCH | J7: OPTIMAL_ACTIVE
B8: BESS-BL-04 | C8: Pesanggaran Bali Eco | D8: Lithium Nickel Manganese (NMC) | E8: 80 | F8: 40 | G8: 0.81 | H8: 0.98 | I8: ISLANDING_BACKUP | J8: OPTIMAL_ACTIVE
B9: TOTAL BESS RESERVE CAPACITY | E9: =SUM(E5:E8) | F9: =SUM(F5:F8) | G9: =AVERAGE(G5:G8) | H9: =AVERAGE(H5:H8)

Sheet Demand Response & Peak Shaving
B2: AUTOMATED DEMAND RESPONSE (ADR) & INDUSTRIAL PEAK LOAD RELIEF
B4: Consumer Contract ID | C4: Industrial Participant | D4: Industry Sector | E4: Committed Relief (MW) | F4: Curtailed Load (MW) | G4: Activation Notice (min) | H4: Financial Rebate (IDR) | I4: Dispatch Event | J4: Contract Status
B5: ADR-IND-001 | C5: PT Krakatau Steel Cilegon | D5: Heavy Steel Manufacturing | E5: 45 | F5: 42.5 | G5: 15 | H5: 380000000 | I5: EVENING_PEAK_SHAVE | J5: ACTIVE_VERIFIED
B6: ADR-IND-002 | C6: PT Semen Indonesia Tuban | D6: Cement & Building Materials | E6: 35 | F6: 35 | G6: 15 | H6: 295000000 | I6: EVENING_PEAK_SHAVE | J6: ACTIVE_VERIFIED
B7: ADR-IND-003 | C7: PT Chandra Asri Petrochem | D7: Chemical Refining | E7: 28 | F7: 26.8 | G7: 30 | H7: 240000000 | I7: EMERGENCY_RESERVE | J7: ACTIVE_VERIFIED
B8: ADR-IND-004 | C8: PT Data Center Bersama | D8: Hyperscale Cloud DC | E8: 20 | F8: 19.5 | G8: 10 | H8: 185000000 | I8: GENERATOR_SWAP | J8: ACTIVE_VERIFIED
B9: TOTAL DEMAND RESPONSE RELIEF | E9: =SUM(E5:E8) | F9: =SUM(F5:F8) | H9: =SUM(H5:H8)

Sheet Transmission Line Thermal Loss
B2: HIGH VOLTAGE TRANSMISSION LINE LOADING & CONDUCTOR THERMAL LOSS
B4: Transmission Circuit Code | C4: Origin - Destination SUTET | D4: Rated Capacity (MVA) | E4: Current Load (MVA) | F4: Thermal Loading % | G4: Conductor Temp (C) | H4: Transmission Loss (MW) | I4: Line Loss % | J4: Operating State
B5: SUTET-500-01 | C5: Cikarang - Cirata Line 1 | D5: 2000 | E5: 1340 | F5: 0.67 | G5: 58.5 | H5: 14.2 | I5: 0.0106 | J5: NORMAL_OPTIMAL
B6: SUTET-500-02 | C6: Cirata - Bandung Selatan | D6: 2000 | E6: 1480 | F6: 0.74 | G6: 64 | H6: 16.8 | I6: 0.0114 | J6: NORMAL_OPTIMAL
B7: SUTET-500-03 | C7: Ungaran - Mandirancan | D7: 2000 | E7: 1550 | F7: 0.775 | G7: 68.2 | H7: 18.5 | I7: 0.0119 | J7: NORMAL_OPTIMAL
B8: SUTET-500-04 | C8: Mandirancan - Gandul | D8: 2000 | E8: 1620 | F8: 0.81 | G8: 72 | H8: 21 | I8: 0.013 | J8: NORMAL_OPTIMAL
B9: SUTET-500-05 | C9: Paiton - Grati Line 1 | D9: 2000 | E9: 1420 | F9: 0.71 | G9: 62.5 | H9: 15.5 | I9: 0.0109 | J9: NORMAL_OPTIMAL
B10: AVERAGE LINE THERMAL EFFICIENCY | D10: =SUM(D5:D9) | E10: =SUM(E5:E9) | F10: =AVERAGE(F5:F9) | H10: =SUM(H5:H9) | I10: =AVERAGE(I5:I9)

Sheet Transformer Health & DGA Oil
B2: TRANSFORMER DISSOLVED GAS ANALYSIS (DGA) & DIELECTRIC OIL HEALTH
B4: Transformer Asset ID | C4: Installed Substation | D4: Hydrogen H2 (ppm) | E4: Methane CH4 (ppm) | F4: Acetylene C2H2 (ppm) | G4: Ethylene C2H4 (ppm) | H4: Dielectric Breakdown (kV) | I4: Duval Triangle Status | J4: Asset Health Grade
B5: TRF-CKR-IBT-01 | C5: GITET Cikarang 500kV | D5: 12 | E5: 8.5 | F5: 0 | G5: 14.2 | H5: 72.5 | I5: ZONE_1_NORMAL | J5: GRADE_A_HEALTHY
B6: TRF-BDG-IBT-02 | C6: GITET Bandung Selatan | D6: 15 | E6: 11 | F6: 0 | G6: 18 | H6: 68 | I6: ZONE_1_NORMAL | J6: GRADE_A_HEALTHY
B7: TRF-SBY-IBT-03 | C7: GITET Krian Surabaya | D7: 18 | E7: 14.5 | F7: 0.2 | G7: 22 | H7: 65.5 | I7: ZONE_1_NORMAL | J7: GRADE_A_HEALTHY
B8: TRF-GDL-IBT-04 | C8: GI Gandul Jakarta | D8: 9.5 | E8: 6.2 | F8: 0 | G8: 11.5 | H8: 75 | I8: ZONE_1_NORMAL | J8: GRADE_A_HEALTHY

Sheet EV Fast Charging Station Grid
B2: STASIUN PENGISIAN KENDARAAN LISTRIK UMUM (SPKLU) GRID IMPACT
B4: SPKLU Station Name | C4: Hub Location | D4: Fast Chargers (kW) | E4: Daily Charging Sessions | F4: Energy Dispensed (kWh) | G4: Peak Demand (kW) | H4: Smart Grid Load Buffer | I4: Revenue (IDR) | J4: Hub State
B5: SPKLU Rest Area KM 57 Tol | C5: Jakarta-Cikampek Toll | D5: 4x 200kW Ultra-Fast | E5: 148 | F5: 5620 | G5: 680 | H5: LOCAL_BESS_BUFFERED | I5: 14050000 | J5: ONLINE_ACTIVE
B6: SPKLU Senayan City Mall | C6: Central Business District | D6: 6x 60kW Fast | E6: 185 | F6: 4950 | G6: 320 | H6: DYNAMIC_LOAD_SHED | I6: 12375000 | J6: ONLINE_ACTIVE
B7: SPKLU Bandara Soetta T3 | C7: Airport Transit Terminal | D7: 4x 150kW Ultra-Fast | E7: 120 | F7: 4400 | G7: 520 | H7: LOCAL_BESS_BUFFERED | I7: 11000000 | J7: ONLINE_ACTIVE
B8: SPKLU Rest Area KM 207 Cirebon | C8: Trans-Java Highway | D8: 4x 200kW Ultra-Fast | E8: 135 | F8: 5100 | G8: 640 | H8: LOCAL_BESS_BUFFERED | I8: 12750000 | J8: ONLINE_ACTIVE
B9: TOTAL EV CHARGING NETWORK | E9: =SUM(E5:E8) | F9: =SUM(F5:F8) | G9: =SUM(G5:G8) | I9: =SUM(I5:I8)

Sheet Utility Cyber OT Sec IEC 62443
B2: CRITICAL INFRASTRUCTURE OT / SCADA CYBERSECURITY (IEC 62443 / BSSN)
B4: Substation / Control Center | C4: SCADA Network Zone | D4: IEC 62443 Security Level | E4: Firewall Diode Air-Gap | F4: Modbus / DNP3 Inspection | G4: Anomalous Packet Rate | H4: Incident Response Time | I4: BSSN Audit Cert | J4: Cyber Defense State
B5: Pusat Pengatur Beban (P2B) | C5: Purdue Level 3 Ops | D5: SL-3 (High Resilience) | E5: UNIDIRECTIONAL_DATA_DIODE | F5: DPI_INSPECTED_ACTIVE | G5: 0.00% | H5: < 1.0 min | I5: BSSN_CERTIFIED | J5: SECURE_PROTECTED
B6: GITET Cikarang 500kV | C6: Purdue Level 2 Control | D6: SL-3 (High Resilience) | E6: DUAL_FIREWALL_AIRGAP | F6: DPI_INSPECTED_ACTIVE | G6: 0.00% | H6: < 1.0 min | I6: BSSN_CERTIFIED | J6: SECURE_PROTECTED
B7: GITET Krian 500kV | C7: Purdue Level 2 Control | D7: SL-3 (High Resilience) | E7: DUAL_FIREWALL_AIRGAP | F7: DPI_INSPECTED_ACTIVE | G7: 0.00% | H7: < 1.0 min | I7: BSSN_CERTIFIED | J7: SECURE_PROTECTED
B8: PLTS Cirata Control Room | C8: Purdue Level 2 Control | D8: SL-2 (Standard Protection) | E8: INDUSTRIAL_FIREWALL_OT | F8: DPI_INSPECTED_ACTIVE | G8: 0.00% | H8: < 2.0 min | I8: BSSN_CERTIFIED | J8: SECURE_PROTECTED

Sheet Carbon Offset & REC Credits
B2: CARBON EMISSIONS ABATEMENT & RENEWABLE ENERGY CERTIFICATES (REC)
B4: Clean Generation Source | C4: Renewable Asset ID | D4: Monthly Clean Energy (MWh) | E4: Avoided Emission Factor | F4: Abated CO2e (Tons) | G4: REC Issued (MWh Certs) | H4: Market Value (IDR) | I4: Registry Status | J4: Verification Standard
B5: Cirata Floating Solar Park | C5: REC-PLTS-001 | D5: 35400 | E5: 0.85 tCO2e/MWh | F5: 30090 | G5: 35400 | H5: 1239000000 | I5: APX_TIGR_REGISTERED | J5: I-REC_STANDARD
B6: Sidrap Wind Farm | C6: REC-PLTB-002 | D6: 15600 | E6: 0.85 tCO2e/MWh | F6: 13260 | G6: 15600 | H6: 546000000 | I6: APX_TIGR_REGISTERED | J6: I-REC_STANDARD
B7: Jeneponto Wind Farm | C7: REC-PLTB-003 | D7: 14550 | E7: 0.85 tCO2e/MWh | F7: 12368 | G7: 14550 | H7: 509250000 | I7: APX_TIGR_REGISTERED | J7: I-REC_STANDARD
B8: Likupang Solar Farm | C8: REC-PLTS-004 | D8: 4050 | E8: 0.85 tCO2e/MWh | F8: 3443 | G8: 4050 | H8: 141750000 | I8: APX_TIGR_REGISTERED | J8: I-REC_STANDARD
B9: TOTAL CARBON ABATEMENT & RECs | D9: =SUM(D5:D8) | F9: =SUM(F5:F8) | G9: =SUM(G5:G8) | H9: =SUM(H5:H8)

Sheet Strategic Utility Scorecard
B2: EXECUTIVE SMART GRID STRATEGY & NET ZERO EMISSIONS 2060 SCORECARD
B4: Strategic KPI Dimension | C4: Target FY2026 | D4: Q1 Actual | E4: Q2 Actual | F4: Q3 Actual (Proj) | G4: Q4 Target | H4: FY26 Projected | I4: Variance vs Target | J4: Executive Health
B5: Bauran Energi Baru Terbarukan (EBT) % | C5: 0.23 | D5: 0.185 | E5: 0.202 | F5: 0.218 | G5: 0.235 | H5: 0.21 | I5: -0.02 | J5: ON_TRACK
B6: Keandalan Jaringan SAIDI (< 45 min) | C6: 45 | D6: 32.5 | E6: 28 | F6: 25.5 | G6: 24 | H6: 27.5 | I6: -17.5 | J6: EXCEEDS
B7: Keandalan Jaringan SAIFI (< 0.05 kali) | C7: 0.05 | D7: 0.022 | E7: 0.019 | F7: 0.018 | G7: 0.015 | H7: 0.019 | I7: -0.031 | J7: EXCEEDS
B8: Penetrasi Smart Meter AMI (Juta Unit) | C8: 8.5 | D8: 6.2 | E8: 7.1 | F8: 8.17 | G8: 8.5 | H8: 7.49 | I8: -1.01 | J8: ON_TRACK
B9: Kapasitas Penyimpanan BESS (MWh) | C9: 500 | D9: 310 | E9: 390 | F9: 450 | G9: 500 | H9: 412.5 | I9: -87.5 | J9: ON_TRACK
B10: Ketersediaan SCADA Substation % | C10: 0.9995 | D10: 0.9992 | E10: 0.9996 | F10: 0.9998 | G10: 0.9999 | H10: 0.9996 | I10: 0.0001 | J10: EXCEEDS
B11: Penurunan Emisi Karbon (Juta Ton CO2e) | C11: 1.2 | D11: 0.85 | E11: 0.98 | F11: 1.12 | G11: 1.25 | H11: 1.05 | I11: -0.15 | J11: ON_TRACK
B12: Efisiensi Rugi Transmisi Grid Losses % | C12: 0.065 | D12: 0.062 | E12: 0.061 | F12: 0.059 | G12: 0.058 | H12: 0.06 | I12: -0.005 | J12: EXCEEDS
